BEGIN:VCALENDAR
VERSION:2.0
PRODID:-//wp-events-plugin.com//7.2.3.1//EN
TZID:Europe/Berlin
X-WR-TIMEZONE:Europe/Berlin
BEGIN:VEVENT
UID:54@proschweiz.ch
DTSTART;TZID=Europe/Zurich:20260418T103000
DTEND;TZID=Europe/Zurich:20260418T140000
DTSTAMP:20260320T062815Z
URL:https://proschweiz.ch/events/4-ordentliche-mitgliederversammlung-pro-s
 chweiz/
SUMMARY:4. ordentliche Mitgliederversammlung Pro Schweiz
DESCRIPTION:\n\nEinladung mit Programm (PDF)\n\nHier anmelden!
LOCATION:Mehrzweckhalle Kaserne Bern\, Kasernenstrasse 15 \, 3014 Bern\, Sc
 hweiz
X-APPLE-STRUCTURED-LOCATION;VALUE=URI;X-ADDRESS=Kasernenstrasse 15 \, 3014 
 Bern\, Schweiz;X-APPLE-RADIUS=100;X-TITLE=Mehrzweckhalle Kaserne Bern:geo:
 0,0
END:VEVENT
BEGIN:VTIMEZONE
TZID:Europe/Zurich
X-LIC-LOCATION:Europe/Zurich
BEGIN:DAYLIGHT
DTSTART:20260329T030000
TZOFFSETFROM:+0100
TZOFFSETTO:+0200
TZNAME:CEST
END:DAYLIGHT
END:VTIMEZONE
END:VCALENDAR