BEGIN:VCALENDAR
VERSION:2.0
PRODID:-//wp-events-plugin.com//7.2.3.1//EN
TZID:Europe/Berlin
X-WR-TIMEZONE:Europe/Berlin
BEGIN:VEVENT
UID:27@proschweiz.ch
DTSTART;TZID=Europe/Zurich:20250514T190000
DTEND;TZID=Europe/Zurich:20250514T213000
DTSTAMP:20250403T132317Z
URL:https://proschweiz.ch/events/podiumsdiskussion-mit-der-beteiligung-von
 -autonomiesuisse-mit-dr-hans-joerg-bertschi-und-dr-hans-peter-zehnder/
SUMMARY:Podiumsdiskussion mit der Beteiligung von autonomiesuisse mit Dr. H
 ans-Jörg Bertschi und Dr. Hans-Peter Zehnder
DESCRIPTION:Türöffnung 18 Uhr\nMehrzweckhalle\, 5616 Meisterschwanden\nI
 mbiss und Getränke vor Ort\nEintritt frei
LOCATION:Mehrzweckhalle\, Mehrzweckhalle\, Meisterschwanden\, 5616\, Schwei
 z
X-APPLE-STRUCTURED-LOCATION;VALUE=URI;X-ADDRESS=Mehrzweckhalle\, Meistersch
 wanden\, 5616\, Schweiz;X-APPLE-RADIUS=100;X-TITLE=Mehrzweckhalle:geo:0,0
END:VEVENT
BEGIN:VTIMEZONE
TZID:Europe/Zurich
X-LIC-LOCATION:Europe/Zurich
BEGIN:DAYLIGHT
DTSTART:20250330T030000
TZOFFSETFROM:+0100
TZOFFSETTO:+0200
TZNAME:CEST
END:DAYLIGHT
END:VTIMEZONE
END:VCALENDAR